BEGIN:VCALENDAR
VERSION:2.0
PRODID:-//Travis County Kennel Club - ECPv6.15.18//NONSGML v1.0//EN
CALSCALE:GREGORIAN
METHOD:PUBLISH
X-WR-CALNAME:Travis County Kennel Club
X-ORIGINAL-URL:https://traviscountykc.com
X-WR-CALDESC:Events for Travis County Kennel Club
REFRESH-INTERVAL;VALUE=DURATION:PT1H
X-Robots-Tag:noindex
X-PUBLISHED-TTL:PT1H
BEGIN:VTIMEZONE
TZID:America/Chicago
BEGIN:DAYLIGHT
TZOFFSETFROM:-0600
TZOFFSETTO:-0500
TZNAME:CDT
DTSTART:20210314T080000
END:DAYLIGHT
BEGIN:STANDARD
TZOFFSETFROM:-0500
TZOFFSETTO:-0600
TZNAME:CST
DTSTART:20211107T070000
END:STANDARD
BEGIN:DAYLIGHT
TZOFFSETFROM:-0600
TZOFFSETTO:-0500
TZNAME:CDT
DTSTART:20220313T080000
END:DAYLIGHT
BEGIN:STANDARD
TZOFFSETFROM:-0500
TZOFFSETTO:-0600
TZNAME:CST
DTSTART:20221106T070000
END:STANDARD
BEGIN:DAYLIGHT
TZOFFSETFROM:-0600
TZOFFSETTO:-0500
TZNAME:CDT
DTSTART:20230312T080000
END:DAYLIGHT
BEGIN:STANDARD
TZOFFSETFROM:-0500
TZOFFSETTO:-0600
TZNAME:CST
DTSTART:20231105T070000
END:STANDARD
END:VTIMEZONE
BEGIN:VEVENT
DTSTART;TZID=America/Chicago:20221028T000000
DTEND;TZID=America/Chicago:20221030T235959
DTSTAMP:20260425T180427
CREATED:20220224T174415Z
LAST-MODIFIED:20260105T181717Z
UID:1928-1666915200-1667174399@traviscountykc.com
SUMMARY:2022 Travis County KC Dog Shows
DESCRIPTION:SHOW HOURS • 7 am – 6pm \n\n\n\nDetails & Map \n\n\n\n\n\n\n\nAll-Breeds Dog Shows\n\n\n\nwith Obedience\, Agility Trials\, and more! \n\n\n\n\n\n\n\n\n2022 Premium\n\n\n\n\n\n\n\n\n\nVendor Information\n\n\n\n\n\nEntries Close 10/12 @ 12:00 pm\n\n\n\n\nEntry Form\n\n\n\n\n\n\n\n\n\n\n\n\nEvent is open to the public\n\n\n\nNo entrance fee | No parking fee \n\n\n\n\n\nVendor Info\n\n\n\nAll Vendor Spots taken for 2022 \n\n\n\n\n\n\n\n\n\n \n\n\n\n\n\n\n\n\n\n\n\nEVENT DETAILS\n\n\n\n\n\n\n\n\n\n\n\n\nWHEN
URL:https://traviscountykc.com/event/2022-heart-of-texas-dog-show/
LOCATION:Cadence Bank Center\, 301 West Loop 121\, Belton\, TX\, 76513\, United States
CATEGORIES:annual show,dog shows
ATTACH;FMTTYPE=image/png:https://traviscountykc.com/wp-content/uploads/2016/08/Logo_made1.png
END:VEVENT
END:VCALENDAR