BEGIN:VCALENDAR
VERSION:2.0
PRODID:-//Travis County Kennel Club - ECPv6.15.18//NONSGML v1.0//EN
CALSCALE:GREGORIAN
METHOD:PUBLISH
X-WR-CALNAME:Travis County Kennel Club
X-ORIGINAL-URL:https://traviscountykc.com
X-WR-CALDESC:Events for Travis County Kennel Club
REFRESH-INTERVAL;VALUE=DURATION:PT1H
X-Robots-Tag:noindex
X-PUBLISHED-TTL:PT1H
BEGIN:VTIMEZONE
TZID:America/Chicago
BEGIN:DAYLIGHT
TZOFFSETFROM:-0600
TZOFFSETTO:-0500
TZNAME:CDT
DTSTART:20230312T080000
END:DAYLIGHT
BEGIN:STANDARD
TZOFFSETFROM:-0500
TZOFFSETTO:-0600
TZNAME:CST
DTSTART:20231105T070000
END:STANDARD
BEGIN:DAYLIGHT
TZOFFSETFROM:-0600
TZOFFSETTO:-0500
TZNAME:CDT
DTSTART:20240310T080000
END:DAYLIGHT
BEGIN:STANDARD
TZOFFSETFROM:-0500
TZOFFSETTO:-0600
TZNAME:CST
DTSTART:20241103T070000
END:STANDARD
BEGIN:DAYLIGHT
TZOFFSETFROM:-0600
TZOFFSETTO:-0500
TZNAME:CDT
DTSTART:20250309T080000
END:DAYLIGHT
BEGIN:STANDARD
TZOFFSETFROM:-0500
TZOFFSETTO:-0600
TZNAME:CST
DTSTART:20251102T070000
END:STANDARD
END:VTIMEZONE
BEGIN:VEVENT
DTSTART;TZID=America/Chicago:20241024T080000
DTEND;TZID=America/Chicago:20241027T170000
DTSTAMP:20260423T234035
CREATED:20240219T220828Z
LAST-MODIFIED:20250127T165820Z
UID:3574-1729756800-1730048400@traviscountykc.com
SUMMARY:2024 Travis County KC Dog Shows
DESCRIPTION:We had a great 2024 show!\n\n\n\n\nShow Details\n\n\n\n\n\n\n\n\n\n\n\n\n\nchairs for Best in Show winners\n\n\n\n\n\n\n\n\n\n\n\n\n\n\n\n\n\n\n\nthe hounds stand in line\n\n\n\n\n\n\n\nHound group competition\n\n\n\n\n\n\n\n\n\n\n\n\n\n\n\n\n\n\n\n\n\n\nSHOW HOURS • 7 am – 6pm \n\n\n\n\n\n\n\n\n\n\n\nAll-Breeds Dog Shows\n\n\n\n3 ALL BREED DOG SHOWS\, 2 OBEDIENCE TRIALS & RALLY TRIALS \n\n\n\n\n\n\n\n\nJudging Program (PDF)\n\n\n\nEvent Premium (PDF)\n\n\n\nGrooming Spaces\n\n\n\nSpecial Events\n\n\n\n\n\n\n\n\n\n\n\nEvent is open to the public\n\n\n\nNo entrance fee | No parking fee \n\n\n\n\n\n\n\n\n\n\n\n\nEvent Premium\n\n\n\nClasses\, Judging\, Schedule\, Updates\, and further details \n\n\n\n\n2024 Premium (PDF)\n\n\n\nJudging Program (PDF)\n\n\n\n\n \n\n\n\n\n\nEntry Info\n\n\n\nOpen: 9/16/24\, 8:30am CT \n\n\n\nClose: 10/9/24\, 12pm CT  \n\n\n\nThis event is accepts entries for dogs listed in the AKC Canine Partners program. \n\n\n\n\nRegister Now\n\n\n\n\n\n\n\n\n\nReserve Grooming Spaces\n\n\n\nSpaces now SOLD OUT. Check with club starting Wed of show for any spots that may come open \n\n\n\n\nSOLD OUT\n\n\n\n\n\n\nVendor Info\n\n\n\nCOMING SOON \n\n\n\n\n\n\n\n\nObedience & Rally Trials\n\n\n\navailable on the weekend \n\n\n\nLIMITED TO 85 ENTRIES ON SATURDAY & SUNDAY \n\n\n\nSat/Sun trials hosted by TCKC \n\n\n\n\n\n\n\nOther Special Events\n\n\n\nAlso at the same location:  \n\n\n\n\n\nCONCURRENT SPECIALTY SHOWS: \n\n\n\nAustin Golden Retriever Club (AGRC)  \n\n\n\nGreater Austin Doberman Pinscher Club\, Inc. \n\n\n\nShetland Sheepdog Club of Austin \n\n\n\n\n\nINDEPENDENT EVENING SPECIALTY SHOW: \n\n\n\nAfghan Hound Club of Austin  \n\n\n\n\n\n\n2024 Premium (PDF)\n\n\n\n\n\n\n\n\n\nEVENT DETAILS\n\n\n\n\n\n\n\n\n\n\n\n\nWHEN
URL:https://traviscountykc.com/event/2024-travis-county-kc-dog-shows/
LOCATION:Cadence Bank Center\, 301 West Loop 121\, Belton\, TX\, 76513\, United States
CATEGORIES:annual show,dog events,dog shows
ATTACH;FMTTYPE=image/jpeg:https://traviscountykc.com/wp-content/uploads/2022/08/design_TCKC-logo-labrador.jpg
END:VEVENT
END:VCALENDAR