BEGIN:VCALENDAR
VERSION:2.0
PRODID:-//Travis County Kennel Club - ECPv6.15.18//NONSGML v1.0//EN
CALSCALE:GREGORIAN
METHOD:PUBLISH
X-ORIGINAL-URL:https://traviscountykc.com
X-WR-CALDESC:Events for Travis County Kennel Club
REFRESH-INTERVAL;VALUE=DURATION:PT1H
X-Robots-Tag:noindex
X-PUBLISHED-TTL:PT1H
BEGIN:VTIMEZONE
TZID:America/Chicago
BEGIN:DAYLIGHT
TZOFFSETFROM:-0600
TZOFFSETTO:-0500
TZNAME:CDT
DTSTART:20210314T080000
END:DAYLIGHT
BEGIN:STANDARD
TZOFFSETFROM:-0500
TZOFFSETTO:-0600
TZNAME:CST
DTSTART:20211107T070000
END:STANDARD
BEGIN:DAYLIGHT
TZOFFSETFROM:-0600
TZOFFSETTO:-0500
TZNAME:CDT
DTSTART:20220313T080000
END:DAYLIGHT
BEGIN:STANDARD
TZOFFSETFROM:-0500
TZOFFSETTO:-0600
TZNAME:CST
DTSTART:20221106T070000
END:STANDARD
BEGIN:DAYLIGHT
TZOFFSETFROM:-0600
TZOFFSETTO:-0500
TZNAME:CDT
DTSTART:20230312T080000
END:DAYLIGHT
BEGIN:STANDARD
TZOFFSETFROM:-0500
TZOFFSETTO:-0600
TZNAME:CST
DTSTART:20231105T070000
END:STANDARD
END:VTIMEZONE
BEGIN:VEVENT
DTSTART;TZID=America/Chicago:20221014T000000
DTEND;TZID=America/Chicago:20221018T235959
DTSTAMP:20260425T201905
CREATED:20220224T174013Z
LAST-MODIFIED:20220919T181419Z
UID:1922-1665705600-1666137599@traviscountykc.com
SUMMARY:Agility Trials - Oct.2022
DESCRIPTION:SHOW HOURS • 8 am – 5pm \n\n\n\nDetails & Map \n\n\n\n\n\n\n\nMore Info Posted Soon\n\n\n\nTCKC hosts Agility Trials\n\n\n\n\n\n\n\n\n\n\n\n\nInfo Here?\n\n\n\n\n\n\n\n\n\nEvent is open to the public\n\n\n\nNo entrance fee | No parking fee \n\n\n\n\n\n\n\n\n\n\n\n\n\nEVENT DETAILS\n\n\n\n\n\n\n\n\n\n\n\n\nWHEN
URL:https://traviscountykc.com/event/agility-trial/
LOCATION:Cadence Bank Center\, 301 West Loop 121\, Belton\, TX\, 76513\, United States
CATEGORIES:Agility,dog events,members
ATTACH;FMTTYPE=image/jpeg:https://traviscountykc.com/wp-content/uploads/2019/04/agility1-mobile.jpg
END:VEVENT
END:VCALENDAR