BEGIN:VCALENDAR
VERSION:2.0
PRODID:-//Travis County Kennel Club - ECPv6.15.18//NONSGML v1.0//EN
CALSCALE:GREGORIAN
METHOD:PUBLISH
X-WR-CALNAME:Travis County Kennel Club
X-ORIGINAL-URL:https://traviscountykc.com
X-WR-CALDESC:Events for Travis County Kennel Club
REFRESH-INTERVAL;VALUE=DURATION:PT1H
X-Robots-Tag:noindex
X-PUBLISHED-TTL:PT1H
BEGIN:VTIMEZONE
TZID:America/Chicago
BEGIN:DAYLIGHT
TZOFFSETFROM:-0600
TZOFFSETTO:-0500
TZNAME:CDT
DTSTART:20250309T080000
END:DAYLIGHT
BEGIN:STANDARD
TZOFFSETFROM:-0500
TZOFFSETTO:-0600
TZNAME:CST
DTSTART:20251102T070000
END:STANDARD
BEGIN:DAYLIGHT
TZOFFSETFROM:-0600
TZOFFSETTO:-0500
TZNAME:CDT
DTSTART:20260308T080000
END:DAYLIGHT
BEGIN:STANDARD
TZOFFSETFROM:-0500
TZOFFSETTO:-0600
TZNAME:CST
DTSTART:20261101T070000
END:STANDARD
BEGIN:DAYLIGHT
TZOFFSETFROM:-0600
TZOFFSETTO:-0500
TZNAME:CDT
DTSTART:20270314T080000
END:DAYLIGHT
BEGIN:STANDARD
TZOFFSETFROM:-0500
TZOFFSETTO:-0600
TZNAME:CST
DTSTART:20271107T070000
END:STANDARD
END:VTIMEZONE
BEGIN:VEVENT
DTSTART;TZID=America/Chicago:20260114T000000
DTEND;TZID=America/Chicago:20260114T235900
DTSTAMP:20260423T055848
CREATED:20161119T152033Z
LAST-MODIFIED:20250915T150435Z
UID:880-1768348800-1768435140@traviscountykc.com
SUMMARY:Dress Up your Pet Day
DESCRIPTION:Established in 2009\, National Dress Up Your Pet Day was founded by Pet Lifestyle Expert/Animal Advocate/Animal Behavioralist Colleen Paige. \n\n\n\n\n\n\n\n\n\n\n\n\n“I really stress comfort and safety for your pet in terms of fashion. Of course\, it’s common sense to never dress your pet in anything that can break and puncture the skin\, cause choking\, ingestion or heat exhaustion. If your pet doesn’t like wearing clothing\, there is no use stressing them out by forcing them to wear something for human entertainment. Perhaps if that’s the case and you still want to participate\, a nice new collar might be just the ticket. \n\n\n\nMany designers are now offering matching luxury accessories and couture for human and pet. I think that it’s more common for dog owners to buy fancy accessories than it is to buy actual clothing….but it seems that most everyone ends up caring about having nice things for their pets.”      ~Colleen Paige \n\n\n\n\nLearn More
URL:https://traviscountykc.com/event/pet-dressup-day/
CATEGORIES:Dog Holidays
ATTACH;FMTTYPE=image/jpeg:https://traviscountykc.com/wp-content/uploads/2016/11/dog-dressup3.jpg
END:VEVENT
END:VCALENDAR