BEGIN:VCALENDAR
VERSION:2.0
PRODID:-//Travis County Kennel Club - ECPv6.15.18//NONSGML v1.0//EN
CALSCALE:GREGORIAN
METHOD:PUBLISH
X-WR-CALNAME:Travis County Kennel Club
X-ORIGINAL-URL:https://traviscountykc.com
X-WR-CALDESC:Events for Travis County Kennel Club
REFRESH-INTERVAL;VALUE=DURATION:PT1H
X-Robots-Tag:noindex
X-PUBLISHED-TTL:PT1H
BEGIN:VTIMEZONE
TZID:America/Chicago
BEGIN:DAYLIGHT
TZOFFSETFROM:-0600
TZOFFSETTO:-0500
TZNAME:CDT
DTSTART:20250309T080000
END:DAYLIGHT
BEGIN:STANDARD
TZOFFSETFROM:-0500
TZOFFSETTO:-0600
TZNAME:CST
DTSTART:20251102T070000
END:STANDARD
BEGIN:DAYLIGHT
TZOFFSETFROM:-0600
TZOFFSETTO:-0500
TZNAME:CDT
DTSTART:20260308T080000
END:DAYLIGHT
BEGIN:STANDARD
TZOFFSETFROM:-0500
TZOFFSETTO:-0600
TZNAME:CST
DTSTART:20261101T070000
END:STANDARD
BEGIN:DAYLIGHT
TZOFFSETFROM:-0600
TZOFFSETTO:-0500
TZNAME:CDT
DTSTART:20270314T080000
END:DAYLIGHT
BEGIN:STANDARD
TZOFFSETFROM:-0500
TZOFFSETTO:-0600
TZNAME:CST
DTSTART:20271107T070000
END:STANDARD
END:VTIMEZONE
BEGIN:VEVENT
DTSTART;TZID=America/Chicago:20260131T000000
DTEND;TZID=America/Chicago:20260203T235959
DTSTAMP:20260422T232740
CREATED:20161119T143145Z
LAST-MODIFIED:20250915T150519Z
UID:873-1769817600-1770163199@traviscountykc.com
SUMMARY:Westminster Dog Show
DESCRIPTION:View Schedule\n\n\n\nOfficial Website\n\n\n\n\nThe 149th Annual Westminster Kennel Club Dog Show presented by Purina Pro Plan is happening February 8\, 10-11\, 2025. \n\n\n\nIn 1877\, New York was well on its way to becoming the world’s greatest city. This was the year that a group of sporting gentlemen decided that this would be a good time to hold a dog show in Manhattan. It didn’t take long before the Westminster Kennel Club\, following the lead of its home town\, would be on its way to becoming the world’s greatest dog show. \n\n\n\n\nLearn More
URL:https://traviscountykc.com/event/westminster-dog-show/
LOCATION:Madison Square Garden\, 4 Pennsylvania Plaza\, New York City\, NY\, 10001\, United States
CATEGORIES:dog shows
END:VEVENT
END:VCALENDAR