BEGIN:VCALENDAR
VERSION:2.0
PRODID:-//Travis County Kennel Club - ECPv6.15.18//NONSGML v1.0//EN
CALSCALE:GREGORIAN
METHOD:PUBLISH
X-WR-CALNAME:Travis County Kennel Club
X-ORIGINAL-URL:https://traviscountykc.com
X-WR-CALDESC:Events for Travis County Kennel Club
REFRESH-INTERVAL;VALUE=DURATION:PT1H
X-Robots-Tag:noindex
X-PUBLISHED-TTL:PT1H
BEGIN:VTIMEZONE
TZID:America/Chicago
BEGIN:DAYLIGHT
TZOFFSETFROM:-0600
TZOFFSETTO:-0500
TZNAME:CDT
DTSTART:20240310T080000
END:DAYLIGHT
BEGIN:STANDARD
TZOFFSETFROM:-0500
TZOFFSETTO:-0600
TZNAME:CST
DTSTART:20241103T070000
END:STANDARD
BEGIN:DAYLIGHT
TZOFFSETFROM:-0600
TZOFFSETTO:-0500
TZNAME:CDT
DTSTART:20250309T080000
END:DAYLIGHT
BEGIN:STANDARD
TZOFFSETFROM:-0500
TZOFFSETTO:-0600
TZNAME:CST
DTSTART:20251102T070000
END:STANDARD
BEGIN:DAYLIGHT
TZOFFSETFROM:-0600
TZOFFSETTO:-0500
TZNAME:CDT
DTSTART:20260308T080000
END:DAYLIGHT
BEGIN:STANDARD
TZOFFSETFROM:-0500
TZOFFSETTO:-0600
TZNAME:CST
DTSTART:20261101T070000
END:STANDARD
END:VTIMEZONE
BEGIN:VEVENT
DTSTART;TZID=America/Chicago:20250527T183000
DTEND;TZID=America/Chicago:20250527T203000
DTSTAMP:20260423T135433
CREATED:20240228T233717Z
LAST-MODIFIED:20250206T163827Z
UID:3587-1748370600-1748377800@traviscountykc.com
SUMMARY:Club Meeting - May
DESCRIPTION:Details \n\n\n\n\n\n\n\n\n\n\n\nTCKC Club Meeting\n\n\n\nContact for Location: vp@traviscountykc.com \n\n\n\n6:30 – eat & visit \n\n\n\n7:00 – meeting starts \n\n\n\n\nUpcoming Meetings (Full List)\n\n\n\n\n\n\nAgenda: TBD \n\n\n\nSpeaker: TBD \n\n\n\n\n\n\nEVENT DETAILS\n\n\n\n\n\n\n\n\n\n\n\n\nWHEN
URL:https://traviscountykc.com/event/club-meeting-may/
LOCATION:TBD Location
CATEGORIES:Meetings,members
ATTACH;FMTTYPE=image/svg+xml:https://traviscountykc.com/wp-content/uploads/2022/11/logo-color-TCKC2-lined.svg
ORGANIZER;CN="Location TBD-Contact":MAILTO:VP@traviscountykc.com
END:VEVENT
END:VCALENDAR