BEGIN:VCALENDAR
VERSION:2.0
PRODID:-//Travis County Kennel Club - ECPv6.15.18//NONSGML v1.0//EN
CALSCALE:GREGORIAN
METHOD:PUBLISH
X-ORIGINAL-URL:https://traviscountykc.com
X-WR-CALDESC:Events for Travis County Kennel Club
REFRESH-INTERVAL;VALUE=DURATION:PT1H
X-Robots-Tag:noindex
X-PUBLISHED-TTL:PT1H
BEGIN:VTIMEZONE
TZID:America/Chicago
BEGIN:DAYLIGHT
TZOFFSETFROM:-0600
TZOFFSETTO:-0500
TZNAME:CDT
DTSTART:20240310T080000
END:DAYLIGHT
BEGIN:STANDARD
TZOFFSETFROM:-0500
TZOFFSETTO:-0600
TZNAME:CST
DTSTART:20241103T070000
END:STANDARD
BEGIN:DAYLIGHT
TZOFFSETFROM:-0600
TZOFFSETTO:-0500
TZNAME:CDT
DTSTART:20250309T080000
END:DAYLIGHT
BEGIN:STANDARD
TZOFFSETFROM:-0500
TZOFFSETTO:-0600
TZNAME:CST
DTSTART:20251102T070000
END:STANDARD
BEGIN:DAYLIGHT
TZOFFSETFROM:-0600
TZOFFSETTO:-0500
TZNAME:CDT
DTSTART:20260308T080000
END:DAYLIGHT
BEGIN:STANDARD
TZOFFSETFROM:-0500
TZOFFSETTO:-0600
TZNAME:CST
DTSTART:20261101T070000
END:STANDARD
BEGIN:DAYLIGHT
TZOFFSETFROM:-0600
TZOFFSETTO:-0500
TZNAME:CDT
DTSTART:20270314T080000
END:DAYLIGHT
BEGIN:STANDARD
TZOFFSETFROM:-0500
TZOFFSETTO:-0600
TZNAME:CST
DTSTART:20271107T070000
END:STANDARD
END:VTIMEZONE
BEGIN:VEVENT
DTSTART;TZID=America/Chicago:20251125T183000
DTEND;TZID=America/Chicago:20251125T203000
DTSTAMP:20260423T164608
CREATED:20240228T234813Z
LAST-MODIFIED:20250206T164446Z
UID:3603-1764095400-1764102600@traviscountykc.com
SUMMARY:Club Meeting - November
DESCRIPTION:Details & Map \n\n\n\n\n\n\n\n\n\n\n\n\n\nTCKC Club Meeting\n\n\n\n6:30 – eat & visit \n\n\n\n7:00 – meeting starts \n\n\n\nContact for Location: VP@traviscountykc.com \n\n\n\n\nUpcoming Meetings (Full List)\n\n\n\n\n\n\nAgenda: TBD \n\n\n\nSpeaker: TBD \n\n\n\n\n\n\nEVENT DETAILS\n\n\n\n\n\n\n\n\n\n\n\n\nWHEN
URL:https://traviscountykc.com/event/club-meeting-november/
LOCATION:TBD Location
CATEGORIES:Meetings
ATTACH;FMTTYPE=image/svg+xml:https://traviscountykc.com/wp-content/uploads/2016/03/dog_bowl.svg
ORGANIZER;CN="Contact for Location":MAILTO:VP@traviscountykc.com
END:VEVENT
BEGIN:VEVENT
DTSTART;TZID=America/Chicago:20260114T000000
DTEND;TZID=America/Chicago:20260114T235900
DTSTAMP:20260423T164608
CREATED:20161119T152033Z
LAST-MODIFIED:20250915T150435Z
UID:880-1768348800-1768435140@traviscountykc.com
SUMMARY:Dress Up your Pet Day
DESCRIPTION:Established in 2009\, National Dress Up Your Pet Day was founded by Pet Lifestyle Expert/Animal Advocate/Animal Behavioralist Colleen Paige. \n\n\n\n\n\n\n\n\n\n\n\n\n“I really stress comfort and safety for your pet in terms of fashion. Of course\, it’s common sense to never dress your pet in anything that can break and puncture the skin\, cause choking\, ingestion or heat exhaustion. If your pet doesn’t like wearing clothing\, there is no use stressing them out by forcing them to wear something for human entertainment. Perhaps if that’s the case and you still want to participate\, a nice new collar might be just the ticket. \n\n\n\nMany designers are now offering matching luxury accessories and couture for human and pet. I think that it’s more common for dog owners to buy fancy accessories than it is to buy actual clothing….but it seems that most everyone ends up caring about having nice things for their pets.”      ~Colleen Paige \n\n\n\n\nLearn More
URL:https://traviscountykc.com/event/pet-dressup-day/
LOCATION:TX
CATEGORIES:Dog Holidays
ATTACH;FMTTYPE=image/jpeg:https://traviscountykc.com/wp-content/uploads/2016/11/dog-dressup3.jpg
END:VEVENT
BEGIN:VEVENT
DTSTART;TZID=America/Chicago:20260131T000000
DTEND;TZID=America/Chicago:20260203T235959
DTSTAMP:20260423T164608
CREATED:20161119T143145Z
LAST-MODIFIED:20250915T150519Z
UID:873-1769817600-1770163199@traviscountykc.com
SUMMARY:Westminster Dog Show
DESCRIPTION:View Schedule\n\n\n\nOfficial Website\n\n\n\n\nThe 149th Annual Westminster Kennel Club Dog Show presented by Purina Pro Plan is happening February 8\, 10-11\, 2025. \n\n\n\nIn 1877\, New York was well on its way to becoming the world’s greatest city. This was the year that a group of sporting gentlemen decided that this would be a good time to hold a dog show in Manhattan. It didn’t take long before the Westminster Kennel Club\, following the lead of its home town\, would be on its way to becoming the world’s greatest dog show. \n\n\n\n\nLearn More
URL:https://traviscountykc.com/event/westminster-dog-show/
LOCATION:Madison Square Garden\, 4 Pennsylvania Plaza\, New York City\, NY\, 10001\, United States
CATEGORIES:dog shows
END:VEVENT
BEGIN:VEVENT
DTSTART;TZID=America/Chicago:20260223T000000
DTEND;TZID=America/Chicago:20260223T235959
DTSTAMP:20260423T164608
CREATED:20170223T233018Z
LAST-MODIFIED:20260105T174203Z
UID:2609-1771804800-1771891199@traviscountykc.com
SUMMARY:Dog Biscuit Day
DESCRIPTION:February 23rd is National Dog Biscuit Day\, also known as International Dog Biscuit Appreciation Day. \n\n\n\n\nDog Biscuits: Brief History\n\n\n\nRecipes\n\n\n\nMore Info\n\n\n\n\n\nRECOMMENDED \n\n\n\nHow Much Should My Dog Eat? – TCKC takes a deep dive into proper food amounts for dogs.  \n\n\n\n\n\n\n\nA Brief History of the Dog Biscuit\n\n\n\n1876 advert\n\n\n\nDog treats have come a long way from the odd table scraps or bran-based\, often rotting and moldy “dog’s bread” that wasn’t considered fit for human consumption. In 1860\, the American inventor and electrician James Spratt “unveiled Spratt’s Patent Meat Fibrine Dog Cakes\, a combination of wheat\, beetroot\, vegetables\, and beef blood. Before long\, he had competitors with names like Dr. A. C. Daniels’ Medicated Dog Bread and F. H. Bennett’s Malatoid Dog Biscuits.”  \n\n\n\n\n\n\n\nSpratt was inspired to develop a food specifically engineered for canines during a business trip to London. “After watching quayside mongrels feasting on hardtack\, the dry biscuit that fed sailors on long voyages\, Spratt set about making a biscuit for dogs that could serve as their primary food.” The expensive biscuit food (a skilled craftsman’s full-day wages could buy about a  50-pound bag ) was popular among England’s country gentleman. \n\n\n\nBy 1895\, Spratt’s was and established business in the United States. The New York Times described dog biscuits as “the principal food” of show dogs. When Lady Ellen– a prizewinning bulldog–died at the 1902 Madison Square Garden dog show\, investigators suspected foul play. The likely murder weapon: poisoned dog biscuits. \n\n\n\nSince then\, innovations and refinements have enhanced the dog biscuit. One of the most noticeable and long-lasting changes occurred in 1907 when Carleton Ellis (the organic chemist behind modern-day margarine\, as well as varnish and paint remover) tried to get his dog to taste-test a new recipe for a milk-based dog biscuit. Ellis’s pooch wasn’t interested in the odd edible at first. So\, Ellis decided to bake the biscuits in bone-shaped molds. The new look worked. \n\n\n\n\n\n\n\n“To this day\,” Ellis told Popular Science in a 1936 interview\, “I cannot tell whether my dog is interested in the bone-shaped biscuit because it fools him as such\, or whether\, after my shaping the biscuit in an effort to cater to his taste\, he feels duty-bound to fool his master by simulating an interest in it.” F. H. Bennett Biscuit Company began selling the bones in 1908. Seven years later\, the company wanted to stress the nutritious benefits of its dairy ingredients and rebranded the food as “Milk-Bone”; now\, arguably America’s most popular dog biscuit brand. \n\n\n\n\n\nwatch a 1960 commercial for Milk-Bone dog biscuits\n\n\n\n\n\nDuring the post-WWII boom\, dog biscuits became more of a “dog dessert” — a special treat\, not part of a healthy meal. A trend that stuck. Current dog biscuit offerings are wider-ranging\, better-tasting and healthier than their predecessors.  \n\n\n\n\n\nThere are biscuits to improve dental hygiene; biscuits for dogs with specific health issues or allergies; and many more. You can even bake your own custom dog biscuits!Check out some recipes. \n\n\n\n\n\n\n\nSources\nSources:Dog Biscuit – from Wikipedia \n\n\n\nMichael Schaffer\, One Nation Under Dog: Adventures in the New World of Prozac-Popping Puppies\, 2009\, p. 2005 link: Google Books \n\n\n\n“Who Made That Dog Biscuit” by Dashka Slater\, New York Times\, 08/01/2014. article link \n\n\n\n\n\n\n\n\n\n\n\nDog Biscuit Recipes\n\n\n\nPumpkin Peanut Butter Dog Treats \n\n\n\nHomemade Dog Treats  \n\n\n\nDiabetic Dog Treats \n\n\n\nPeanut Butter and Banana Dog Biscuits  \n\n\n\nPeanut Butter and Pumpkin Dog Treats  \n\n\n\nBacon-Flavored Dog Biscuits \n\n\n\n \n\n\n\n\n\nFurther Reading\n\n\n\nHow Much Should My Dog Eat? – TCKC takes a deep dive into proper food amounts for dogs.  \n\n\n\nASPCA: Celebrate National Dog Biscuit Day \n\n\n\nNational Day Calendar: National Dog Biscuit Day  \n\n\n\n“Who Made That Dog Biscuit” by Dashka Slater\, New York Times\, 08/01/2014 \n\n\n\nHow Marketing Helped Milk-Bone…: The brand still dominates by Robert Klara\, Adweek. 11/15/2016.  \n\n\n\nDog Biscuit – from Wikipedia 
URL:https://traviscountykc.com/event/dog-biscuit-day/
LOCATION:TX
CATEGORIES:Dog Holidays,Education
ATTACH;FMTTYPE=image/jpeg:https://traviscountykc.com/wp-content/uploads/2018/03/dog-treat-jar.jpg
END:VEVENT
BEGIN:VEVENT
DTSTART;TZID=America/Chicago:20260305T000000
DTEND;TZID=America/Chicago:20260308T235959
DTSTAMP:20260423T164608
CREATED:20220919T184942Z
LAST-MODIFIED:20250915T150248Z
UID:2735-1772668800-1773014399@traviscountykc.com
SUMMARY:Crufts Dog Show
DESCRIPTION:Crufts Dog Showin Birmingham\, England\n\n\n\n\nWatch Live\n\n\n\nOfficial Website\n\n\n\nShow Info\n\n\n\n\n\n\n\n\n\nEstablished in 1891\, Crufts is now one of the largest dog events in the world. The show is named after its founder\, Charles Cruft (1852-1938). Over 21\,000 canine entrants participate in group judging\, agility\, obedience\, flyball\, and heelwork competitions during the 4-day event. \n\n\n\n\nLearn More
URL:https://traviscountykc.com/event/crufts-dog-show/
LOCATION:TX
CATEGORIES:dog shows
ATTACH;FMTTYPE=image/jpeg:https://traviscountykc.com/wp-content/uploads/2016/11/CruftsLogo.jpg
END:VEVENT
BEGIN:VEVENT
DTSTART;TZID=America/Chicago:20260315T000000
DTEND;TZID=America/Chicago:20260321T235959
DTSTAMP:20260423T164608
CREATED:20171030T150342Z
LAST-MODIFIED:20250915T150244Z
UID:1241-1773532800-1774137599@traviscountykc.com
SUMMARY:Poison Prevention Week
DESCRIPTION:National Poison Prevention Week raises awareness of poison prevention nationwide during the third full week of March every year. The week is an opportunity to highlight the dangers of poisonings for people and animals\, as well as promote community involvement in poisoning prevention. \n\n\n\nclick for full infographic\n\n\n\nOn September 26\, 1961\, the 87th United States Congress passed a joint resolution (Public Law 87-319) requesting that the President of the United States proclaim the third week of March National Poison Prevention Week. On February 7\, 1962\, President John F. Kennedy responded to this request and proclaimed the third week of March as National Poison Prevention Week. The first National Poison Prevention Week was therefore observed in March 1962. \n\n\n\n\nOfficial Website\n\n\n\nPoison Prevention
URL:https://traviscountykc.com/event/poison-prevention-week/
LOCATION:TX
CATEGORIES:Education
ATTACH;FMTTYPE=image/png:https://traviscountykc.com/wp-content/uploads/2016/11/poison-danger.png
END:VEVENT
BEGIN:VEVENT
DTSTART;TZID=America/Chicago:20260501T000000
DTEND;TZID=America/Chicago:20260501T235900
DTSTAMP:20260423T164608
CREATED:20220916T213720Z
LAST-MODIFIED:20250915T150306Z
UID:2595-1777593600-1777679940@traviscountykc.com
SUMMARY:Purebred Dog Day
DESCRIPTION:All dogs should be valued\, whatever their ancestry\, but the purpose-bred dog and the predictability of its breed is to be cherished and preserved. Over 400 dog breeds exist in the world today\, but many are at risk of vanishing forever in our lifetime.  \n~ National Purebred Dog Day\n\n\n\n\n\n\n\n\n\n\n\n\n\n\n\nQuick Facts\n\n\n\nFounded: 2013 by Susi Szeremy\, writer and Puli fancierPurpose: To celebrate the heritage\, diversity and predictability of the purpose bred dog through education\, and to bring balance to the national dialogue about responsible dog ownership and choice. \n\n\n\nNational Purebred Dog Day® • May 1 celebrates the heritage\, diversity and predictability of the purebred dog. Each breed is a living legacy of the culture that created it for a reason\, each breed indelibly etched in that culture’s history just as surely as its music\, art\, and language. \n\n\n\n\n\n\nOfficial Website\n\n\n\nNPDD Facebook
URL:https://traviscountykc.com/event/purebred-dog-day-2023/
LOCATION:TX
CATEGORIES:Dog Holidays
ATTACH;FMTTYPE=image/jpeg:https://traviscountykc.com/wp-content/uploads/2017/10/May1-PurebredDogDay.jpg
END:VEVENT
BEGIN:VEVENT
DTSTART;TZID=America/Chicago:20260509T000000
DTEND;TZID=America/Chicago:20260509T235900
DTSTAMP:20260423T164608
CREATED:20171030T153949Z
LAST-MODIFIED:20250915T150321Z
UID:1272-1778284800-1778371140@traviscountykc.com
SUMMARY:National Animal Disaster Prep Day
DESCRIPTION:Preparation is important.  \n\n\n\n\nIn 2010\, the Federal Emergency Management Agency (FEMA) designated the second Saturday in May as National Animal Disaster Preparedness Day. FEMA and other organizations want to help pet families create a disaster plan that includes their pets. \n\n\n\n\n\n\n\n\nDisaster Prep Video\n\n\n\n\nDisaster Prep Checklists\n\n\n\n\nASPCA Disaster Prep\n\n\n\nTips from AKC\n\n\n\nHuman Society Prep List\n\n\n\n\n\n\n\n\n\n\n\n\n\n\nIn times of crisis\, pets are often separated from their families and left to fend for themselves. During natural catastrophes such as tornadoes\, hurricanes\, floods\, earthquakes and wildfires\, as well as man-made disasters such as hazardous chemical spills and terrorism\, people are often told to leave their homes for a “short time\,” only to find that they cannot return for days or even weeks. As a result\, community animal shelters are overwhelmed with lost and separated cats and dogs in the wake of these events \n\n\n\n\nPet & Animal Emergency Planning Ready.gov\n\n\n\nEmergency Planning: ASPCA
URL:https://traviscountykc.com/event/national-animal-disaster-prep-day/
LOCATION:TX
CATEGORIES:Education,Programs
ATTACH;FMTTYPE=image/jpeg:https://traviscountykc.com/wp-content/uploads/2016/04/disaster-prep-thumb.jpg
END:VEVENT
BEGIN:VEVENT
DTSTART;TZID=America/Chicago:20260815T000000
DTEND;TZID=America/Chicago:20260815T235900
DTSTAMP:20260423T164608
CREATED:20171030T153607Z
LAST-MODIFIED:20250915T150056Z
UID:1269-1786752000-1786838340@traviscountykc.com
SUMMARY:Check the Chip Day
DESCRIPTION:Microchips greatly increase the chances that pets will be reunited with their families if they are lost or stolen…but a microchip only works if its registration. \n\n\n\nTo remind pet owners to have their pets microchipped and to keep the registration information up-to-date\, the American Veterinary Medical Association (AVMA) and the American Animal Hospital Association (AAHA) joined together to create “Check the Chip Day.” \n\n\n\n\n\n\n\nMore Info from AVMA\n\n\n\nAAHA’S UNIVERSAL PET MICROCHIP LOOKUP TOOL\n\n\n\nAVMA Infographic
URL:https://traviscountykc.com/event/check-chip-day/
LOCATION:TX
CATEGORIES:Dog Holidays,Education
ATTACH;FMTTYPE=image/jpeg:https://traviscountykc.com/wp-content/uploads/2016/11/chip-check2.jpg
END:VEVENT
BEGIN:VEVENT
DTSTART;TZID=America/Chicago:20260920T000000
DTEND;TZID=America/Chicago:20260926T235959
DTSTAMP:20260423T164608
CREATED:20220916T212745Z
LAST-MODIFIED:20260105T173454Z
UID:2586-1789862400-1790467199@traviscountykc.com
SUMMARY:National Dog Week
DESCRIPTION:1950 poster for National Dog week.  Artist: Albert Staehle (1899 – 1974)\n\n\n\n\n\nThe last full week of September is National Dog Week! \n\n\n\n\nQuick Facts\n\n\n\nFounded: 1928 by Capt. William Judy  \n\n\n\nPurpose: To honor all the ways dogs served humans and to promote responsible dog ownership. \n\n\n\n\n\n“The world likes dogs because dogs are nearest to moral perfection of all living things.”  \n~Capt. Will Judy – Editor\, Dog World Magazine\, “Why the World Likes Dogs”\, 1937\n\n\n\n\nFacebook – National Dog Week
URL:https://traviscountykc.com/event/national-dog-week/
LOCATION:TX
CATEGORIES:Dog Holidays
ATTACH;FMTTYPE=image/jpeg:https://traviscountykc.com/wp-content/uploads/2022/09/NDW-edit_sept1.jpg
END:VEVENT
BEGIN:VEVENT
DTSTART;TZID=America/Chicago:20261231T000000
DTEND;TZID=America/Chicago:20261231T235900
DTSTAMP:20260423T164608
CREATED:20231113T170408Z
LAST-MODIFIED:20260105T173502Z
UID:3535-1798675200-1798761540@traviscountykc.com
SUMMARY:Annual Membership Dues
DESCRIPTION:Annual Membership Fee DUE by 12/31/25 \n\n\n\nNEW! Convenient online payments\n\n\n\n\nPAY DUES \n\n\n\n\nPREFER TO PAY BY CHECK? \n\n\n\nPrices if Paid By Check:Individual: $15Hosehold: $25 \n\n\n\nMail checks to:Bill Brown\, Treasurer510 Monarch TrailGeorgetown\, TX 78633
URL:https://traviscountykc.com/event/annual-membership-dues/
LOCATION:TX
CATEGORIES:members
ATTACH;FMTTYPE=image/jpeg:https://traviscountykc.com/wp-content/uploads/2023/11/woo_member-dues2.jpg
END:VEVENT
END:VCALENDAR