BEGIN:VCALENDAR
VERSION:2.0
PRODID:-//Travis County Kennel Club - ECPv6.15.18//NONSGML v1.0//EN
CALSCALE:GREGORIAN
METHOD:PUBLISH
X-ORIGINAL-URL:https://traviscountykc.com
X-WR-CALDESC:Events for Travis County Kennel Club
REFRESH-INTERVAL;VALUE=DURATION:PT1H
X-Robots-Tag:noindex
X-PUBLISHED-TTL:PT1H
BEGIN:VTIMEZONE
TZID:America/Chicago
BEGIN:DAYLIGHT
TZOFFSETFROM:-0600
TZOFFSETTO:-0500
TZNAME:CDT
DTSTART:20250309T080000
END:DAYLIGHT
BEGIN:STANDARD
TZOFFSETFROM:-0500
TZOFFSETTO:-0600
TZNAME:CST
DTSTART:20251102T070000
END:STANDARD
BEGIN:DAYLIGHT
TZOFFSETFROM:-0600
TZOFFSETTO:-0500
TZNAME:CDT
DTSTART:20260308T080000
END:DAYLIGHT
BEGIN:STANDARD
TZOFFSETFROM:-0500
TZOFFSETTO:-0600
TZNAME:CST
DTSTART:20261101T070000
END:STANDARD
BEGIN:DAYLIGHT
TZOFFSETFROM:-0600
TZOFFSETTO:-0500
TZNAME:CDT
DTSTART:20270314T080000
END:DAYLIGHT
BEGIN:STANDARD
TZOFFSETFROM:-0500
TZOFFSETTO:-0600
TZNAME:CST
DTSTART:20271107T070000
END:STANDARD
END:VTIMEZONE
BEGIN:VEVENT
DTSTART;TZID=America/Chicago:20261231T000000
DTEND;TZID=America/Chicago:20261231T235900
DTSTAMP:20260423T163959
CREATED:20231113T170408Z
LAST-MODIFIED:20260105T173502Z
UID:3535-1798675200-1798761540@traviscountykc.com
SUMMARY:Annual Membership Dues
DESCRIPTION:Annual Membership Fee DUE by 12/31/25 \n\n\n\nNEW! Convenient online payments\n\n\n\n\nPAY DUES \n\n\n\n\nPREFER TO PAY BY CHECK? \n\n\n\nPrices if Paid By Check:Individual: $15Hosehold: $25 \n\n\n\nMail checks to:Bill Brown\, Treasurer510 Monarch TrailGeorgetown\, TX 78633
URL:https://traviscountykc.com/event/annual-membership-dues/
LOCATION:TX
CATEGORIES:members
ATTACH;FMTTYPE=image/jpeg:https://traviscountykc.com/wp-content/uploads/2023/11/woo_member-dues2.jpg
END:VEVENT
END:VCALENDAR