BEGIN:VCALENDAR
VERSION:2.0
PRODID:-//Travis County Kennel Club - ECPv6.15.18//NONSGML v1.0//EN
CALSCALE:GREGORIAN
METHOD:PUBLISH
X-WR-CALNAME:Travis County Kennel Club
X-ORIGINAL-URL:https://traviscountykc.com
X-WR-CALDESC:Events for Travis County Kennel Club
REFRESH-INTERVAL;VALUE=DURATION:PT1H
X-Robots-Tag:noindex
X-PUBLISHED-TTL:PT1H
BEGIN:VTIMEZONE
TZID:America/Chicago
BEGIN:DAYLIGHT
TZOFFSETFROM:-0600
TZOFFSETTO:-0500
TZNAME:CDT
DTSTART:20150308T080000
END:DAYLIGHT
BEGIN:STANDARD
TZOFFSETFROM:-0500
TZOFFSETTO:-0600
TZNAME:CST
DTSTART:20151101T070000
END:STANDARD
BEGIN:DAYLIGHT
TZOFFSETFROM:-0600
TZOFFSETTO:-0500
TZNAME:CDT
DTSTART:20160313T080000
END:DAYLIGHT
BEGIN:STANDARD
TZOFFSETFROM:-0500
TZOFFSETTO:-0600
TZNAME:CST
DTSTART:20161106T070000
END:STANDARD
BEGIN:DAYLIGHT
TZOFFSETFROM:-0600
TZOFFSETTO:-0500
TZNAME:CDT
DTSTART:20170312T080000
END:DAYLIGHT
BEGIN:STANDARD
TZOFFSETFROM:-0500
TZOFFSETTO:-0600
TZNAME:CST
DTSTART:20171105T070000
END:STANDARD
BEGIN:DAYLIGHT
TZOFFSETFROM:-0600
TZOFFSETTO:-0500
TZNAME:CDT
DTSTART:20180311T080000
END:DAYLIGHT
BEGIN:STANDARD
TZOFFSETFROM:-0500
TZOFFSETTO:-0600
TZNAME:CST
DTSTART:20181104T070000
END:STANDARD
BEGIN:DAYLIGHT
TZOFFSETFROM:-0600
TZOFFSETTO:-0500
TZNAME:CDT
DTSTART:20190310T080000
END:DAYLIGHT
BEGIN:STANDARD
TZOFFSETFROM:-0500
TZOFFSETTO:-0600
TZNAME:CST
DTSTART:20191103T070000
END:STANDARD
BEGIN:DAYLIGHT
TZOFFSETFROM:-0600
TZOFFSETTO:-0500
TZNAME:CDT
DTSTART:20200308T080000
END:DAYLIGHT
BEGIN:STANDARD
TZOFFSETFROM:-0500
TZOFFSETTO:-0600
TZNAME:CST
DTSTART:20201101T070000
END:STANDARD
BEGIN:DAYLIGHT
TZOFFSETFROM:-0600
TZOFFSETTO:-0500
TZNAME:CDT
DTSTART:20210314T080000
END:DAYLIGHT
BEGIN:STANDARD
TZOFFSETFROM:-0500
TZOFFSETTO:-0600
TZNAME:CST
DTSTART:20211107T070000
END:STANDARD
END:VTIMEZONE
BEGIN:VEVENT
DTSTART;TZID=America/Chicago:20200905T000000
DTEND;TZID=America/Chicago:20200907T235959
DTSTAMP:20260423T221124
CREATED:20200809T193112Z
LAST-MODIFIED:20260105T180833Z
UID:1823-1599264000-1599523199@traviscountykc.com
SUMMARY:2020 Heart of Texas Dog Show
DESCRIPTION:SHOW HOURS • 7 am – 6pm \n\n\n\nDetails & Map \n\n\n\n\n\n\n\nTCKC’s annual all-breeds Heart of Texas Dog Show\n\n\n\nwith Obedience Trials\, Agility Trials\, and more! \n\n\n\n\n\n\n\n\nSHOW HOURS • 7am – 6pm\n\n\n\n2020 Show is at a new location\,the Bell County Expo Center in Belton\, TX \n\n\n\n\n\n\n\n\n\nOnly open to handlers and owners of dogs being exhibited.\n\n\n\nNo entrance fee | No parking fee \n\n\n\n\n\n\nBell County Expo Center requires a signed waiver for all events. The forms will be at the front club table. Exhibitors and attendees need to turn in a hard copy there in order to get the wristband for the weekend. \n\n\n\n\n\n\nPLEASE NOTE – Check the online premium for details\, eligibility information\, and updates. \n\n\n\n\n\n\n\n\n\n\n\n\n\n\n\n\n\nEVENT DETAILS\n\n\n\n\n\n\n\n\n\n\n\n\nWHEN \n\n\n\n\n\n\nOnly open to handlers and owners of dogs being exhibited.
URL:https://traviscountykc.com/event/2020-heart-of-texas-dog-show/
LOCATION:Cadence Bank Center\, 301 West Loop 121\, Belton\, TX\, 76513\, United States
CATEGORIES:annual show,dog shows
ATTACH;FMTTYPE=image/png:https://traviscountykc.com/wp-content/uploads/2016/08/Logo_made1.png
END:VEVENT
BEGIN:VEVENT
DTSTART;TZID=America/Chicago:20200820T000000
DTEND;TZID=America/Chicago:20200821T235959
DTSTAMP:20260423T221124
CREATED:20200809T182342Z
LAST-MODIFIED:20220919T181855Z
UID:1811-1597881600-1598054399@traviscountykc.com
SUMMARY:Agility Trials 2020
DESCRIPTION:HOURS • 8 am – 5pm \n\n\n\n(Indoor\, climate controlled\, on dirt) \n\n\n\nDetails & Map \n\n\n\n\n\n\n\nALL-BREED Agility TrialsLicensed by the American Kennel Club\n\n\n\n\nPremium Coming Soon\n\n\n\n\n\nEntry Info\n\n\n\nClasses\n\n\n\nJudging Schedule\n\n\n\nWorker’s Signup\n\n\n\n\n\n\n\nAugust 20-21\, 2020 in Belton\, TXTrial Hours: 8:00 a.m. to 30 minutes after last run each day.Judging will commence no earlier than 8:00 a.m. each day.This event is accepting entries for dogs listed in the AKC Canine Partners program. \n\n\n\nPLEASE NOTE – Check the online premium for any more details\, eligibility information\, and updates. \n\n\n\n\n\nSigned Waivers\n\n\n\nBell County Expo Center requires a signed waiver for all events. The forms will be at the front club table. Exhibitors and attendees need to turn in a hard copy there in order to get the wristband for the weekend. \n\n\n\n\n\nClasses\n\n\n\ninfo posted soon \n\n\n\n\n\nEntry Info\n\n\n\nEntry Limit: 350 per day \n\n\n\nEntries are now closed \n\n\n\nWait-List Policy \n\n\n\nThe clubs are offering a wait-list to fill openings created by withdrawn entries after the trial’s closing date/time. A maximum of 25 entries will be placed on the club’s wait-list. All entries\, including wait-listed entries\, must be received by the Trial Secretary prior to the trial closing date as listed on the front of the show premium (coming soon) . \n\n\n\n\n\nJudging Schedule\n\n\n\ninfo posted soon \n\n\n\n\n \n\n\n\n\nWorkers’ Sign-up\n\n\n\nMore info posted soon \n\n\n\nThank you in advance for helping out. We look forward to seeing everyone and their dogs for another great weekend of fun! \n\n\n\nUnloading & Set-Up\n\n\n\nFor those who are interested in helping unload Thursday\, 8/20: the equipment is scheduled to be delivered at 5:30 pm. If you plan to help\, you are welcome to set up your crating area starting at 5pm. \n\n\n\nPlease do not set-up any earlier without making prior arrangements with the Club. The building is not available to exhibitors other than club members prior to 5pm. \n\n\n\nClub members and volunteers have 1st choice for crating. \n\n\n\n \n\n\n\n\n\n\n\n\n\n\n\nEVENT DETAILS\n\n\n\n\n\n\n\n\n\n\n\n\nWHEN
URL:https://traviscountykc.com/event/agility-trials-2020-part-1/
LOCATION:Cadence Bank Center\, 301 West Loop 121\, Belton\, TX\, 76513\, United States
CATEGORIES:Agility,Programs
ATTACH;FMTTYPE=image/jpeg:https://traviscountykc.com/wp-content/uploads/2019/04/agility1-mobile.jpg
END:VEVENT
BEGIN:VEVENT
DTSTART;TZID=America/Chicago:20200128T183000
DTEND;TZID=America/Chicago:20200128T203000
DTSTAMP:20260423T221124
CREATED:20191217T212308Z
LAST-MODIFIED:20220919T183033Z
UID:1792-1580236200-1580243400@traviscountykc.com
SUMMARY:Annual Awards Banquet 2019
DESCRIPTION:Details & Map \n\n\n\n\n\n\n\n \n\n\n\nAnnual Club Awards & Member Appreciation\n\n\n\n\n\nWe had a great year!\n\n\n\n\n\n\n\n\n\n \n\n\n\n\n\n\n\n\nUpcoming Meetings (Full List)\n\n\n\n\n\n\n\n\n\n\n\nEVENT DETAILS\n\n\n\n\n\n\n\n\n\n\n\n\nWHEN
URL:https://traviscountykc.com/event/annual-awards-banquet-2019/
LOCATION:Saltgrass Steakhouse\, 10614 Research Blvd\, Austin\, TX\, 78759\, United States
CATEGORIES:Meetings
ATTACH;FMTTYPE=image/jpeg:https://traviscountykc.com/wp-content/uploads/2016/08/proud-dog-winner.jpg
END:VEVENT
BEGIN:VEVENT
DTSTART;TZID=America/Chicago:20191026T000000
DTEND;TZID=America/Chicago:20191027T235959
DTSTAMP:20260423T221124
CREATED:20190424T231253Z
LAST-MODIFIED:20260105T180252Z
UID:1676-1572048000-1572220799@traviscountykc.com
SUMMARY:2019 Heart of Texas Dog Show
DESCRIPTION:SHOW HOURS • 7 am – 6pm \n\n\n\nDetails & Map \n\n\n\n\n\n\n\nTCKC’s annual all-breeds Heart of Texas Dog Show\n\n\n\n25th Anniversary! \n\n\n\nwith Obedience Trials\, Labrador Specialty Show\, and more! \n\n\n\n\nEvent Premiums Full Info\n\n\n\n\n\n\n\n\n\n\n\nEvent is open to the public\n\n\n\nNo entrance fee | No parking fee \n\n\n\n\n\n \n\n\n\n\n\nPLEASE NOTE – Check the online premium for details\, eligibility information\, and updates. \n\n\n\n\n\n\n Show Premium Lists 2019\n\n\n\n Judging Program 2019\n\n\n\n\n\n\n\n\n\n\n\n\n\n\nEVENT DETAILS\n\n\n\n\n\n\n\n\n\n\n\n\nWHEN
URL:https://traviscountykc.com/event/2019-heart-of-texas-dog-show/
LOCATION:Travis County Expo Center\, 7311 Decker Lane\, Austin\, TX\, 78724\, United States
CATEGORIES:annual show,dog shows
ATTACH;FMTTYPE=image/png:https://traviscountykc.com/wp-content/uploads/2016/08/Logo_made1.png
END:VEVENT
BEGIN:VEVENT
DTSTART;TZID=America/Chicago:20190503T000000
DTEND;TZID=America/Chicago:20190505T235959
DTSTAMP:20260423T221124
CREATED:20190424T234342Z
LAST-MODIFIED:20230123T161658Z
UID:1679-1556841600-1557100799@traviscountykc.com
SUMMARY:Agility Trials – TCKC 2019
DESCRIPTION:HOURS • 8 am – 5pm \n\n\n\n(Indoor\, climate controlled\, on dirt) \n\n\n\nDetails & Map \n\n\n\n\n\n\n\nALL-BREED Agility TrialsLicensed by the American Kennel Club\n\n\n\n\nPremium Coming Soon\n\n\n\n\n\nEntry Info\n\n\n\nClasses\n\n\n\nJudging Schedule\n\n\n\nWorker’s Signup\n\n\n\n\n\n\n\nMay 3-5\, 2019 in Belton\, TX in Belton\, TXTrial Hours: 8:00 a.m. to 30 minutes after last run each day.Judging will commence no earlier than 8:00 a.m. every day.This event is accepting entries for dogs listed in the AKC Canine Partners program. \n\n\n\nPLEASE NOTE – Check the online premium for any more details\, eligibility information\, and updates. \n\n\n\n\n\nEntry Info\n\n\n\nEntry Limit: 350 per day \n\n\n\nEntries are now closed \n\n\n\nWait-List Policy\nThe clubs are offering a wait-list to fill openings created by withdrawn entries after the trial’s closing date/time. A maximum of 25 entries will be placed on the club’s wait-list. All entries\, including wait-listed entries\, must be received by the Trial Secretary prior to the trial closing date as listed on the front of the show premium. \n\n\n\n\n\n\nClasses\n\n\n\n\nFri.\, May 3\, 2019Std\, Std Premier\, JWW\, JWW Premier\, FASTSat.\, May 4\, 2019Std\, Std Premier\, JWW\, FASTSun.\, May 5\, 2019Std\, JWW\, JWW Premier\, T2BSee tentative run order and primer on Premier class on Premium List PDF\n\n\n\n\n\nJudging Schedule\n\n\n\nCLASSFRIDAYSATURDAYSUNDAYStandardPrem StdN/AJWWN/APrem JWWN/AFastN/AT2BN/AN/AJudge: Christie Bowers\n\n\n\n\n\nWorkers’ Sign-up\n\n\n\nTCKC Members: Volunteer and get Vouchers \n\n\n\nYou’ll receive $4 vouchers for each class worked. The vouchers can be used towards food items purchased from the concession stand all weekend or towards future TCKC show entries. \n\n\n\nThank you in advance for helping out. We look forward to seeing everyone and their dogs for another great weekend of fun! \n\n\n\nUnloading & Set-Up\n\n\n\nFor those who are interested in helping unload Thursday\, the equipment is scheduled to be delivered at 5:30 pm. If you plan to help\, you are welcome to set up your crating area starting at 5pm. \n\n\n\nPlease do not set-up any earlier w/o making prior arrangements with the Club. The building is not available to exhibitors other than club members prior to 5pm. \n\n\n\nIf you are unable to volunteer to help unload\, set-up starts at 7:00 am Friday. \n\n\n\nClub members and volunteers have 1st choice for crating. \n\n\n\n \n\n\n\n\n\n\nTX Agility Facebook Group\n\n\n\n\n\n\n\n\n\n\n\n\nEVENT DETAILS\n\n\n\n\n\n\n\n\n\n\n\n\nWHEN
URL:https://traviscountykc.com/event/agility-trials-tckc-2019/
LOCATION:Cadence Bank Center\, 301 West Loop 121\, Belton\, TX\, 76513\, United States
CATEGORIES:Agility,dog events,Education,Programs
ATTACH;FMTTYPE=image/jpeg:https://traviscountykc.com/wp-content/uploads/2018/04/labrador-agility-trial.jpg
END:VEVENT
BEGIN:VEVENT
DTSTART;TZID=America/Chicago:20181027T000000
DTEND;TZID=America/Chicago:20181028T235959
DTSTAMP:20260423T221124
CREATED:20180401T231009Z
LAST-MODIFIED:20220919T182255Z
UID:1511-1540598400-1540771199@traviscountykc.com
SUMMARY:2018 Heart of Texas Dog Show
DESCRIPTION:SHOW HOURS • 7 am – 6pm \n\n\n\nDetails & Map \n\n\n\n\n\n\n\nTCKC’s annual all-breeds Heart of Texas Dog Show\n\n\n\nAll-Breeds Dog Show with Agility Trials and Specialty Shows\, Trick Dog Competition\, and more \n\n\n\n\nEvent Premiums Full Info\n\n\n\n\n\n\n\n\n\n\n\nEvent is open to the public\n\n\n\nNo entrance fee | No parking fee \n\n\n\n\n\n\n Show Premium Lists\n\n\n\n UPDATES (Premiums)\n\n\n\n Judging Program\n\n\n\n Judge Panel\n\n\n\n\n \n\n\n\n\n\n\n\n\n\n\n\n\n\n\n\n\n\n\n\n\n\nEVENT DETAILS\n\n\n\n\n\n\n\n\n\n\n\n\nWHEN
URL:https://traviscountykc.com/event/heart-texas-dog-show-2018/
LOCATION:Travis County Expo Center\, 7311 Decker Lane\, Austin\, TX\, 78724\, United States
CATEGORIES:annual show,dog shows
ATTACH;FMTTYPE=image/png:https://traviscountykc.com/wp-content/uploads/2016/08/Logo_made1.png
END:VEVENT
BEGIN:VEVENT
DTSTART;TZID=America/Chicago:20180504T090000
DTEND;TZID=America/Chicago:20180506T180000
DTSTAMP:20260423T221124
CREATED:20180402T014314Z
LAST-MODIFIED:20240229T000230Z
UID:1514-1525424400-1525629600@traviscountykc.com
SUMMARY:Agility Trials - TCKC 2018
DESCRIPTION:(Indoor\, climate controlled\, on dirt) \n\n\n\nDetails & Map \n\n\n\n\n\n\n\n3 ALL-BREED Agility TrialsLicensed by the American Kennel Club\n\n\n\n\n\n\n\n\nEntry Info\n\n\n\nPremium  PDF\n\n\n\n\n\n\n\nMay 4-6\, 2018 in Belton\, TXTrial Hours: 8:00 a.m. to 30 minutes after last run each day.Judging will commence no earlier than 8:00 a.m. each day.This event is accepting entries for dogs listed in the AKC Canine Partners program. \n\n\n\nPLEASE NOTE – Check the online premium for any more details\, eligibility information\, and updates. \n\n\n\n\n\nEntries are now closed \n\n\n\nEntry Info\n\n\n\nEntry Limit: 350 each day \n\n\n\nDuring the first 48 hours after opening\, the initial limit of entries designated as either online or paper will be as follows: • 50% online entries (165 runs)    • 50% paper entries (165 runs)If either form of entry (paper or online) has not filled at the end of the 48-hour time period\, the club reserves the right to decrease or increase either one accordingly. \n\n\n\n \n\n\n\n\nOnline Entries \n\n\n\n1. Sign on to your my AKC account (or create one) 2. After signing in\, go to the “My Event Tools –> Enter Agility Event(s)” at in your account dashboard and follow the instructions. \n\n\n\n\n\nPaper Entries \n\n\n\nMake all checks payable in U.S. funds to: Trials By Lotus. All entries must be submitted on official AKC agility entry forms\, one dog per entry form. Photocopies of front and back are accepted only if legible and official AKC size. Entries will not be accepted without signature\, fees and signature on agreement on back of entry form. Please waive “signature required” on all expedited entries. \n\n\n\nSend entries to: Lotus Kiffe 923 Palos Verdes Leander\, TX 78641 Please specify TCKC on the envelope. \n\n\n\n\nWait-List Policy\nThe clubs are offering a wait-list to fill openings created by withdrawn entries after the trial’s closing date/time. A maximum of 25 entries will be placed on the club’s wait-list. All entries\, including wait-listed entries\, must be received by the Trial Secretary prior to the trial closing date as listed on the front of this premium. Any entries withdrawn that are received by 6:00 p.m.\, April 30 will be replaced by a wait-listed entry if any are available. If a withdrawn entry is replaced by a wait-listed entry\, a full refund will be issued for the withdrawn entry. Any waitlisted entry that does not move off the wait-list into the trial by 6:00 p.m.\, April 30 will be refunded. \n\n\n\n\nEntry Regulations\nEntries are accepted on a “first received” basis on or after the opening date and time. These trials accept paper entries only.Paper entries received within 24 hours of the opening date and time must (1) have postage or be metered and (2) be delivered by a multi-state or multi-national postal or carrier service\, including but not limited to USPS\, FedEx\, UPS & DHL. If above conditions are not met\, the entries are not valid and must be returned to sender.A maximum of 10 entries per envelope is allowed. Envelopes with more than 10 entries and/or entries received prior to the opening date will be returned.After the closing date and time\, entries cannot be accepted\, canceled\, altered or substituted except as provided for in Chapter 11\, Section 6 of the Dog Show Rules.\n\n\n\n\nEntry Fees\n$24.00 for the first entry of each dog each day (includes $3.50 AKC recording fee)$13.00 for each additional entry of the same dog each day (includes $3.00 AKC recording fee)\n\n\n\n\n\n\n\nTX Agility Facebook Group\n\n\n\n\n\n\n\n\n\n\n\n\nEVENT DETAILS\n\n\n\n\n\n\n\n\n\n\n\n\nWHEN
URL:https://traviscountykc.com/event/agility-trials-tckc-2018/
LOCATION:Cadence Bank Center\, 301 West Loop 121\, Belton\, TX\, 76513\, United States
CATEGORIES:Agility,Education,Programs
ATTACH;FMTTYPE=image/jpeg:https://traviscountykc.com/wp-content/uploads/2018/04/dog-agility-jump.jpg
END:VEVENT
BEGIN:VEVENT
DTSTART;VALUE=DATE:20180501
DTEND;VALUE=DATE:20180502
DTSTAMP:20260423T221124
CREATED:20171030T154443Z
LAST-MODIFIED:20220919T183933Z
UID:1274-1525132800-1525219199@traviscountykc.com
SUMMARY:Purebred Dog Day 2018
DESCRIPTION:All dogs should be valued\, whatever their ancestry\, but the purpose-bred dog and the predictability of its breed is to be cherished and preserved. Over 400 dog breeds exist in the world today\, but many are at risk of vanishing forever in our lifetime.  ~ National Purebred Dog Day\n\n\n\n\n\n\n\n\n\n\n\n\n\n\n\nQuick Facts\n\n\n\nFounded: 2013 by Susi Szeremy\, writer and Puli fancierPurpose: To celebrate the heritage\, diversity and predictability of the purpose bred dog through education\, and to bring balance to the national dialogue about responsible dog ownership and choice. \n\n\n\nNational Purebred Dog Day® • May 1 celebrates the heritage\, diversity and predictability of the purebred dog. Each breed is a living legacy of the culture that created it for a reason\, each breed indelibly etched in that culture’s history just as surely as its music\, art\, and language. \n\n\n\n\n\n\nOfficial Website\n\n\n\nNPD Facebook
URL:https://traviscountykc.com/event/purebred-dog-day-2018/
LOCATION:TX
CATEGORIES:Dog Holidays,Education
ATTACH;FMTTYPE=image/jpeg:https://traviscountykc.com/wp-content/uploads/2017/10/May1-PurebredDogDay.jpg
END:VEVENT
BEGIN:VEVENT
DTSTART;VALUE=DATE:20171026
DTEND;VALUE=DATE:20171030
DTSTAMP:20260423T221124
CREATED:20170301T224145Z
LAST-MODIFIED:20220919T184431Z
UID:1031-1508976000-1509321599@traviscountykc.com
SUMMARY:2017 Heart of Texas Dog Show
DESCRIPTION:HOURS • 7 am – 6pm \n\n\n\nDetails & Map \n\n\n\n\n\n\n\nAll-Breeds Dog Show\n\n\n\n\nJudging Schedule\n\n\n\n2017 Premium Lists\n\n\n\n\n\nEntry Info\n\n\n\nAgility Trials\n\n\n\nLure Coursing\n\n\n\nTrick Dog Competition\n\n\n\nSpecialty Shows\n\n\n\n\n\n\n\nSHOW HOURS • 7:00 am – 6:00 pm \n\n\n\nThe Mobile Vet Clinic will be at the show! \n\n\n\nEvent is open to the public \n\n\n\nNo entrance fee | No parking fee \n\n\n\n\n\nPLEASE NOTE – Check the online premium for any more details\, eligibility information\, and updates. \n\n\n\n\n\n\nLure Coursing\n\n\n\navailable Thursday\, Oct.26 – Sunday\, Oct.29 \n\n\n\n4 Coursing Ability Tests • 1 test each day \n\n\n\nmore info\nFor ALL dogs at least 12 months of age and individually registered with the AKC. \n\n\n\nHosted by: The Afghan Hound Club of Austin and The Alamo Area Whippet Club  \n\n\n\nFor premium list or further information please visit us at www.afghanhoundclubaustin.org and www.alamoareawhippetclub.org  \n\n\n\nor contact: Field Trial Secretary Lynda Hicks suniafghans@gmail.com • (512) 799-0799 \n\n\n\n\n\n\nAKC All Breed Agility Trials\n\n\n\navailable Saturday\, Oct.28 – Sunday\, Oct.29 \n\n\n\nentries close Oct 11 \n\n\n\nAKC All American Dogs Included \n\n\n\nmore info\nStandard\, JWW\, Fast\, T2B | in the Show Barn Horse Arena | Run one ringHeld on firmly packed dirt under permanent cover \n\n\n\nJudges: Cris Baldwin (Saturday) & Bruce Baker (Sunday) \n\n\n\nTrial Secretary: Lotus Kiffe trialsbylotus@gmail.com \n\n\n\nContact Lotus for Premiums and additional information \n\n\n\n512-917-0911 trialsbylotus.com \n\n\n\n\n\n\n\n\n\n\nSpecialty ShowsConcurrent Breed Specialty Shows\n\n\n\nFriday\, 10/27 – Labrador RetrieverSaturday\, 10/28 – Golden RetrieverSaturday\, 10/28 – Doberman Pinscher\n\n\n\nmore info\n\nDetails – Judging Program\n\n\n\nEvent – Online Listings\n\n\n\n\nContacts: \n\n\n\nGolden Retriever Specialty Sue Brent(512) 633-0842 \n\n\n\nLabrador Retriever Specialty Shannon R Stafflabsrno1@sbcglobal.net \n\n\n\n\n\n\n\n\n\n\nTrick Dog Competition\n\n\n\navailable Thursday\, Oct.26 & Friday\, Oct.27 \n\n\n\nENTRY FEE – $20.00 \n\n\n\nWith your AKC number you can register the day of competition (Thursday and Friday) \n\n\n\n\n\n\n\nmore info\nFor dogs that have proof of CGC title\, only 5 tricks are to be chosen to do from the Novice level of tricks. \n\n\n\nThose without proof of CGC must perform 10 tricks from the list. \n\n\n\nSee Trick Dog Title for trick lists for Novice\, Intermediate and\, Advanced. \n\n\n\nContact: Carole Zieris \n\n\n\n \n\n\n\n\n\n\n\n\n\nUnloading & Set-Up\n\n\n\nFor those who are interested in helping unload Thursday\, the equipment is scheduled to be delivered at 5:30 pm. If you plan to help\, you are welcome to set up your crating area starting at 5pm. \n\n\n\nPlease do not set-up any earlier w/o making prior arrangements with the Club. The building is not available to exhibitors other than club members prior to 5pm. \n\n\n\nIf you are unable to volunteer to help unload\, set-up starts at 7:00 am Friday. \n\n\n\nClub members and volunteers have 1st choice for crating \n\n\n\n \n\n\n\n\n\nEntry Info\n\n\n\n \n\n\n\nEntries are now closed \n\n\n\nRegistration Deadline: 10/11/2017 at noon (CST)
URL:https://traviscountykc.com/event/heart-texas-dog-show-2017/
LOCATION:Travis County Expo Center\, 7311 Decker Lane\, Austin\, TX\, 78724\, United States
CATEGORIES:annual show,dog shows,Education,Programs
ATTACH;FMTTYPE=image/png:https://traviscountykc.com/wp-content/uploads/2016/08/Logo_made1.png
END:VEVENT
BEGIN:VEVENT
DTSTART;TZID=America/Chicago:20170423T120000
DTEND;TZID=America/Chicago:20170423T120000
DTSTAMP:20260423T221124
CREATED:20170403T174641Z
LAST-MODIFIED:20220919T184157Z
UID:1079-1492948800-1492948800@traviscountykc.com
SUMMARY:Canine Wine and Dine 2017
DESCRIPTION:Details & Map \n\n\n\n\n\n\n\n\n\n\n\nTCKC’s Annual Canine Wine & Dine\n\n\n\nA public event celebrating purebred dogs. Learn more about canine health and resources\, meet rare breeds\, enjoy live demonstrations of dog agility\, and more!  \n\n\n\nRSVP Info: TBD \n\n\n\n\n\n\n\n\n\n\n \n\n\n\nDoor PrizesMeet popular and rare breeds under the pavilion while sampling Flat Creek’s award winning wines and enjoying their menuAsk the experts from participating local dog clubs about canine health\, feeding\, and trainingWatch live demonstrations of dog agility\, breed specific grooming\, canine nose work\, and retrievers retrievingLocal VendorsLearn more about local dog clubs and resources\n\n\n\n\n \n\n\n\n\n\n\n\n\n\nMore Info Facebook Event Page\n\n\n\n\n\n\n\n\n\n\n\n\nEVENT DETAILS\n\n\n\n\n\n\n\n\n\n\n\n\nWHEN
URL:https://traviscountykc.com/event/canine-wine-dine-2017/
LOCATION:Flat Creek Estate Winery & Vineyard\, 24912 Singleton Bend E. Road\, Marble Falls\, TX\, 78654\, United States
CATEGORIES:Education,Meetings,Programs
ATTACH;FMTTYPE=image/jpeg:https://traviscountykc.com/wp-content/uploads/2017/04/Wine-Dine-Canine2017.jpg
END:VEVENT
BEGIN:VEVENT
DTSTART;TZID=America/Chicago:20161029T100000
DTEND;TZID=America/Chicago:20161029T160000
DTSTAMP:20260423T221124
CREATED:20160922T230337Z
LAST-MODIFIED:20220911T154524Z
UID:686-1477735200-1477756800@traviscountykc.com
SUMMARY:2016 Heart Clinic
DESCRIPTION:Details & Map \n\n\n\n\n\n\n\n\n\n\n\nHosted by Travis County Kennel Club Pre-signup ONLY\n\n\n\nFor reservations\, contact:Brenda Mallory512-645-5620 orBrenda@bremalboxers.com \n\n\n\n\n\n\n\n\nPrices \n\n\n\nEchocardiogram: $225 \n\n\n\nAuscultation Only: $55 \n\n\n\nNote: \n\n\n\nChecks will NOT be accepted.5% up-charge for Credit Cards.Cash Accepted. \n\n\n\nPerformed by:  \n\n\n\nAustin Heart Vet \n\n\n\nDr. Katie Meier\, DACVIM \n\n\n\n\n\nMinimum: 10 dogsor clinic will be cancelledMaximum: 30 dogs \n\n\n\n\n\n\n\nPurpose of clinic: \n\n\n\nTo screen potential breeding animals for heart disease and provide documentation to the registry.It is not a discounted cardiology evaluation to diagnose already suspected heart disease. \n\n\n\n\n\n\n\n \n\n\n\n\n\n\n\n\n\n\n\n\n\n\n\n\n\n\n\n\n\nEVENT DETAILS\n\n\n\n\n\n\n\n\n\n\n\n\nWHEN
URL:https://traviscountykc.com/event/2016-heart-clinic/
LOCATION:Travis County Expo Center\, 7311 Decker Lane\, Austin\, TX\, 78724\, United States
CATEGORIES:annual show,Education
ATTACH;FMTTYPE=image/png:https://traviscountykc.com/wp-content/uploads/2016/09/HEART-tckc.png
END:VEVENT
BEGIN:VEVENT
DTSTART;VALUE=DATE:20161027
DTEND;VALUE=DATE:20161031
DTSTAMP:20260423T221124
CREATED:20160819T190109Z
LAST-MODIFIED:20260105T181252Z
UID:406-1477526400-1477871999@traviscountykc.com
SUMMARY:2016 Heart of Texas Dog Show
DESCRIPTION:Judging Schedule\n\n\n\nEntry Info\n\n\n\nSpecial Events\n\n\n\nLure Coursing\n\n\n\nWorker’s Signup\n\n\n\n\n\n\n\n\nDetails & Map \n\n\n\n\n\n\n\n\n\n\n\nAKC-sanctioned\, annual\, all-breeds 2016 Heart of Texas Dog Show\n\n\n\nSHOW HOURS • 7:00 am – 6:00 pm \n\n\n\n\n2016 Premiums\n\n\n\nCoursing Premium 2016\n\n\n\n\n\n\n\nPLEASE NOTE – Check the online premium for any more details\, eligibility information\, and updates. \n\n\n\n\n\nSPECIAL EVENTS\n\n\n\nThe Mobile Vet Clinic will be at the show! \n\n\n\nLure Coursing\navailable on Saturday\, Oct.29 and Sunday\, Oct.30 \n\n\n\n LURE COURSING – MORE INFO AND ENTRANCE FORM \n\n\n\nabout Lure Coursing: info from AKC \n\n\n\n\n\n\n\n\n\n\n\n\n\n\n\n\nHeart Clinic\n\n\n\nSunday\, 10/29 | 10am-4pm \n\n\n\n\ndetails\n\n\n\n\n\n\n\n\nJUDGING SCHEDULE\n\n\n\n \n\n\n\nCLASS TB3FRIDAYSATURDAYSUNDAYStandard•••Prem Std•N/AJWW••N/APrem JWW•N/A•Fast••N/AT2BxN/A•Judge: Christie Bowers\n\n\n\n\n\nWorkers’ Sign-up\n\n\n\nTCKC Members: Volunteer and get Vouchers \n\n\n\nYou’ll receive $4 vouchers for each class worked. The vouchers can be used towards food items purchased from the concession stand all weekend or towards future TCKC show entries. \n\n\n\nThank you in advance for helping out. We look forward to seeing everyone and their dogs for another great weekend of fun! \n\n\n\n\n\nUnloading & Set-Up\n\n\n\nFor those who are interested in helping unload Thursday\, the equipment is scheduled to be delivered at 5:30 pm. If you plan to help\, you are welcome to set up your crating area starting at 5pm. \n\n\n\nPlease do not set-up any earlier w/o making prior arrangements with the Club. The building is not available to exhibitors other than club members prior to 5pm. \n\n\n\nIf you are unable to volunteer to help unload\, set-up starts at 7:00 am Friday. \n\n\n\nClub members and volunteers have 1st choice for crating \n\n\n\n \n\n\n\n\n\nEntry Info\n\n\n\nEntries are now closed
URL:https://traviscountykc.com/event/2016-heart-texas-dog-show/
LOCATION:Travis County Expo Center\, 7311 Decker Lane\, Austin\, TX\, 78724\, United States
CATEGORIES:annual show,dog shows
ATTACH;FMTTYPE=image/png:https://traviscountykc.com/wp-content/uploads/2016/08/Logo_made1.png
END:VEVENT
BEGIN:VEVENT
DTSTART;VALUE=DATE:20160918
DTEND;VALUE=DATE:20160925
DTSTAMP:20260423T221124
CREATED:20160829T232351Z
LAST-MODIFIED:20220926T190401Z
UID:623-1474156800-1474761599@traviscountykc.com
SUMMARY:National Dog Week 2016
DESCRIPTION:June Lockhart and Lassie celebrate National Dog Week\, 1963\n\n\n\n\n\nThe last full week of September is National Dog Week! \n\n\n\n\nQUICK FACTS:\n\n\n\nFounded: 1928 by Capt. William Judy Purpose: To honor all the ways dogs served humans and to promote responsible dog ownership. \n\n\n\n\n \n\n\n\n“The world likes dogs because dogs are nearest to moral perfection of all living things.”  ~Capt. Will Judy – Editor\, Dog World Magazine\, “Why the World Likes Dogs”\, 1937
URL:https://traviscountykc.com/event/national-dog-week-2016/
LOCATION:TX
CATEGORIES:Dog Holidays,Education
ATTACH;FMTTYPE=image/jpeg:https://traviscountykc.com/wp-content/uploads/2016/08/NDW-sept2.jpg
END:VEVENT
END:VCALENDAR